BEGIN:VCALENDAR
VERSION:2.0
PRODID:-//eventon.com NONSGML v1.0//EN
CALSCALE:GREGORIAN
METHOD:PUBLISH
BEGIN:VEVENT
UID:69ec382e8b852
DTSTAMP:20260425T034238Z
DTSTART:20211221T032900Z
DTEND:20211221T032900Z
LOCATION:Salim Habib University NC-24\,  Deh Dih\,  Salim Habib Road\,  Karachi\,  74900\,  Pakistan
SUMMARY:Talent Hunt phase-I
DESCRIPTION:Salim Habib University is organizing Talent Hunt phase-I on Thu
 rsday\,  December 02\,  2021“Time to showcase your talent”Hurry up!Regi
 stered yourself.For more information &#038; registration ContactMs. Rohana 
 Kamran-Student Affairs DepartmentEmail: rohana.kamran@shu.edu.pkWhatsApp: 0
 331-3931637\nhttps://shu.edu.pk/events/talent-hunt-phase-i/
URL:https://shu.edu.pk/events/talent-hunt-phase-i/
END:VEVENT
END:VCALENDAR