BEGIN:VCALENDAR
VERSION:2.0
PRODID:-//eventon.com NONSGML v1.0//EN
CALSCALE:GREGORIAN
METHOD:PUBLISH
BEGIN:VEVENT
UID:69e70f27a1a5d
DTSTAMP:20260421T054615Z
DTSTART:20221215T033300Z
DTEND:20221215T033300Z
LOCATION:Salim Habib University NC-24\,  Deh Dih\,  Salim Habib Road\,  Karachi\,  74900\,  Pakistan
SUMMARY:Entrepreneurship Showcase 1.0
DESCRIPTION:Entrepreneurship Showcase 1.0\,  an exhibition of business idea
 s\,  organized by the Department of Business Administration\,  Salim Habib 
 University\,  was held on Wednesday\,  December 14\,  2022. The Showcase wa
 s a great opportunity for aspiring entrepreneurs to present their ideas to 
 industry professionals with the aim of seeking expert advice from experienc
 ed[..]\nhttps://shu.edu.pk/events/entrepreneurship-showcase-1-0/
URL:https://shu.edu.pk/events/entrepreneurship-showcase-1-0/
END:VEVENT
END:VCALENDAR