BEGIN:VCALENDAR
VERSION:2.0
PRODID:-//eventon.com NONSGML v1.0//EN
CALSCALE:GREGORIAN
METHOD:PUBLISH
BEGIN:VEVENT
UID:69e5edaaa486b
DTSTAMP:20260420T091106Z
DTSTART:20230504T033700Z
DTEND:20230504T033700Z
LOCATION:Salim Habib University NC-24\,  Deh Dih\,  Salim Habib Road\,  Karachi\,  74900\,  Pakistan
SUMMARY:Visit to Job Fair & Education Expo
DESCRIPTION:Final year students from Salim Habib University visited the Job
  Fair and Education Expo organized at Karachi Expo Center by the Pakistan H
 indu Council\,  in collaboration with the Higher Education Commission (HEC)
 . The event\,  which took place on Thursday\,  May 4\,  2023\,  featured na
 tional and multi-national firms of renown\,  as[..]\nhttps://shu.edu.pk/eve
 nts/visit-to-job-fair-education-expo/
URL:https://shu.edu.pk/events/visit-to-job-fair-education-expo/
END:VEVENT
END:VCALENDAR