BEGIN:VCALENDAR
VERSION:2.0
PRODID:-//eventon.com NONSGML v1.0//EN
CALSCALE:GREGORIAN
METHOD:PUBLISH
BEGIN:VEVENT
UID:69ec329e401a0
DTSTAMP:20260425T031854Z
DTSTART:20230524T033700Z
DTEND:20230524T033700Z
LOCATION:Salim Habib University NC-24\,  Deh Dih\,  Salim Habib Road\,  Karachi\,  74900\,  Pakistan
SUMMARY:Grad Week - Character Day
DESCRIPTION:Character Day\,  held on Monday\,  May 22\,  2023\,  was Day 2 
 of Grad Week Spring 2023\,  and it is no exaggeration to say that it was a 
 blast! The Class of Spring 2023 dressed up as their favourite fictional cha
 racters\,  and their costumes added more life and character (get it?)[..]\n
 https://shu.edu.pk/events/grad-week-character-day-3/
URL:https://shu.edu.pk/events/grad-week-character-day-3/
END:VEVENT
END:VCALENDAR