BEGIN:VCALENDAR
VERSION:2.0
PRODID:-//eventon.com NONSGML v1.0//EN
CALSCALE:GREGORIAN
METHOD:PUBLISH
BEGIN:VEVENT
UID:69e8b12b73a10
DTSTAMP:20260422T112947Z
DTSTART:20230530T033700Z
DTEND:20230530T033700Z
LOCATION:Salim Habib University NC-24\,  Deh Dih\,  Salim Habib Road\,  Karachi\,  74900\,  Pakistan
SUMMARY:Inauguration of SHU-PSTD Research Center
DESCRIPTION:The Inauguration Ceremony of the SHU-PSTD Research Center was h
 eld on Monday\,  May 29\,  2023. The Center\,  established under the Memora
 ndum of Agreement (MoU) signed between Salim Habib University (SHU) and the
  Pakistan Society for Training and Development (PSTD)\,  and in collaborati
 on with Salim Habib University’s Career Placement &#038; Industrial Liai
 son[..]\nhttps://shu.edu.pk/events/inauguration-of-shu-pstd-research-center
 /
URL:https://shu.edu.pk/events/inauguration-of-shu-pstd-research-center/
END:VEVENT
END:VCALENDAR