BEGIN:VCALENDAR
VERSION:2.0
PRODID:-//eventon.com NONSGML v1.0//EN
CALSCALE:GREGORIAN
METHOD:PUBLISH
BEGIN:VEVENT
UID:69e742176a51d
DTSTAMP:20260421T092335Z
DTSTART:20230811T033900Z
DTEND:20230811T033900Z
LOCATION:Salim Habib University NC-24\,  Deh Dih\,  Salim Habib Road\,  Karachi\,  74900\,  Pakistan
SUMMARY:Independence Day Celebration
DESCRIPTION:Salim Habib University (SHU) celebrated Pakistan&#8217;s Indepe
 ndence Day with a beautiful Flag Hoisting Ceremony conducted by Vice Chance
 llor SHU Prof. Dr. Shakeel Ahmed Khan. Notably present to commemorate the o
 ccasion were Registrar Prof. Dr. Kaleem Raza Khan\,  Director Education &#0
 38; Admissions\,  Marketing\,  HR\,  and Admin\,  Dr. Muhammad Hussain Habi
 b\,  and[..]\nhttps://shu.edu.pk/events/independence-day-celebration/
URL:https://shu.edu.pk/events/independence-day-celebration/
END:VEVENT
END:VCALENDAR