BEGIN:VCALENDAR
VERSION:2.0
PRODID:-//eventon.com NONSGML v1.0//EN
CALSCALE:GREGORIAN
METHOD:PUBLISH
BEGIN:VEVENT
UID:69e89c3f52839
DTSTAMP:20260422T100031Z
DTSTART:20231115T034200Z
DTEND:20231115T034200Z
LOCATION:Salim Habib University NC-24\,  Deh Dih\,  Salim Habib Road\,  Karachi\,  74900\,  Pakistan
SUMMARY:IT Industry-Academia Bridge Program
DESCRIPTION:The Department of Computer Science\,  Faculty of Information Te
 chnology\,  Salim Habib University\,  held a Counselling Session titled IT 
 Industry-Academia Bridge Program on Tuesday\,  November 13\,  as a part of 
 the Guest Lecture Series held by the University&#8217;s Center for Learning
  and Teaching (CLT). The seminar was conducted by Dr. Shahzeb[..]\nhttps://
 shu.edu.pk/events/it-industry-academia-bridge-program/
URL:https://shu.edu.pk/events/it-industry-academia-bridge-program/
END:VEVENT
END:VCALENDAR