BEGIN:VCALENDAR
VERSION:2.0
PRODID:-//eventon.com NONSGML v1.0//EN
CALSCALE:GREGORIAN
METHOD:PUBLISH
BEGIN:VEVENT
UID:69ec2e3490bd3
DTSTAMP:20260425T030004Z
DTSTART:20231220T034400Z
DTEND:20231220T034400Z
LOCATION:Salim Habib University NC-24\,  Deh Dih\,  Salim Habib Road\,  Karachi\,  74900\,  Pakistan
SUMMARY:Undergraduate Intra-University Poster Competition
DESCRIPTION:The Department of Biosciences\,  Faculty of Science\,  Salim Ha
 bib University\,  held an Undergraduate Intra-University Poster Competition
  on Friday\,  December 15\,  2023\,  in collaboration with the Department o
 f Computer Science. The competition exhibited the incredible research work 
 students of Biosciences\,  Computer Science\,  Biomedical Engineering\,  an
 d related fields have produced\,  and awed[..]\nhttps://shu.edu.pk/events/u
 ndergraduate-intra-university-poster-competition/
URL:https://shu.edu.pk/events/undergraduate-intra-university-poster-competition/
END:VEVENT
END:VCALENDAR