BEGIN:VCALENDAR
VERSION:2.0
PRODID:-//eventon.com NONSGML v1.0//EN
CALSCALE:GREGORIAN
METHOD:PUBLISH
BEGIN:VEVENT
UID:69e8b0e3699e8
DTSTAMP:20260422T112835Z
DTSTART:20240104T034400Z
DTEND:20240104T034400Z
LOCATION:Salim Habib University NC-24\,  Deh Dih\,  Salim Habib Road\,  Karachi\,  74900\,  Pakistan
SUMMARY:Tariq Amin Library presents New Year's Accolades
DESCRIPTION:Salim Habib University’s Tariq Amin Library held a ceremony t
 itled New Year&#8217;s Accolades to appreciate its top patrons of the year 
 2023 and their relentless pursuit of knowledge. The event included the pres
 entation of certificates and expressions of appreciation to these top patro
 ns as well as a Cake Cutting Ceremony[..]\nhttps://shu.edu.pk/events/tariq-
 amin-library-presents-new-years-accolades/
URL:https://shu.edu.pk/events/tariq-amin-library-presents-new-years-accolades/
END:VEVENT
END:VCALENDAR