BEGIN:VCALENDAR
VERSION:2.0
PRODID:-//eventon.com NONSGML v1.0//EN
CALSCALE:GREGORIAN
METHOD:PUBLISH
BEGIN:VEVENT
UID:69e851a9486a8
DTSTAMP:20260422T044217Z
DTSTART:20240515T034600Z
DTEND:20240515T034600Z
LOCATION:Salim Habib University NC-24\,  Deh Dih\,  Salim Habib Road\,  Karachi\,  74900\,  Pakistan
SUMMARY:CLT - The Art of Collaboration in Business
DESCRIPTION:The Department of Business Administration\,  Salim Habib Univer
 sity\,  held a seminar on the Art of Collaboration in Business on Wednesday
 \,  May 15\,  2024\,  under the University&#8217;s Center for Learning and 
 Teaching (CLT). The highly engaging seminar was conducted by Dr. Yasir Aque
 el\,  Co-Founder &#038; CEO\,  Plan B Media Group.\nhttps://shu.edu.pk/even
 ts/clt-the-art-of-collaboration-in-business/
URL:https://shu.edu.pk/events/clt-the-art-of-collaboration-in-business/
END:VEVENT
END:VCALENDAR