BEGIN:VCALENDAR
VERSION:2.0
PRODID:-//eventon.com NONSGML v1.0//EN
CALSCALE:GREGORIAN
METHOD:PUBLISH
BEGIN:VEVENT
UID:69e90ab2b0094
DTSTAMP:20260422T175146Z
DTSTART:20240612T034700Z
DTEND:20240612T034700Z
LOCATION:Salim Habib University NC-24\,  Deh Dih\,  Salim Habib Road\,  Karachi\,  74900\,  Pakistan
SUMMARY:Computer Science Final Year Project Exhibition 2024
DESCRIPTION:The Department of Computer Science\,  Faculty of Information Te
 chnology\,  Salim Habib University\,  held its Final Year Project Exhibitio
 n: A Showcase on Tuesday\,  June 11\,  2024. The grand showcase\,  organize
 d by the Computer Science FYP Committee in collaboration with the IEEE Wome
 n in Engineering (WIE) Affinity Group Karachi Section\,  exhibited the[..]\
 nhttps://shu.edu.pk/events/computer-science-final-year-project-exhibition-2
 024/
URL:https://shu.edu.pk/events/computer-science-final-year-project-exhibition-2024/
END:VEVENT
END:VCALENDAR