BEGIN:VCALENDAR
VERSION:2.0
PRODID:-//eventon.com NONSGML v1.0//EN
CALSCALE:GREGORIAN
METHOD:PUBLISH
BEGIN:VEVENT
UID:69e733de77a32
DTSTAMP:20260421T082254Z
DTSTART:20240826T034800Z
DTEND:20240826T034800Z
LOCATION:Salim Habib University NC-24\,  Deh Dih\,  Salim Habib Road\,  Karachi\,  74900\,  Pakistan
SUMMARY:MBA MeetUp 2024
DESCRIPTION:NULL\nhttps://shu.edu.pk/events/mba-meetup-2024/
URL:https://shu.edu.pk/events/mba-meetup-2024/
END:VEVENT
END:VCALENDAR