BEGIN:VCALENDAR
VERSION:2.0
PRODID:-//eventon.com NONSGML v1.0//EN
CALSCALE:GREGORIAN
METHOD:PUBLISH
BEGIN:VEVENT
UID:69e8c357e99ab
DTSTAMP:20260422T124719Z
DTSTART:20240906T034800Z
DTEND:20240906T034800Z
LOCATION:Salim Habib University NC-24\,  Deh Dih\,  Salim Habib Road\,  Karachi\,  74900\,  Pakistan
SUMMARY:The Cyber Frontier
DESCRIPTION:The Department of Computer Science\,  Faculty of Information Te
 chnology\,  Salim Habib University\,  held a session titled &#8216;The Cybe
 r Frontier: Navigating Your Path to a Career in Cybersecurity&#8217; on Thu
 rsday\,  May 30\,  2024\,  as a part of the Guest Lecture Series held by th
 e University&#8217;s Center for Learning and Teaching (CLT). [..]\nhttps:/
 /shu.edu.pk/events/the-cyber-frontier/
URL:https://shu.edu.pk/events/the-cyber-frontier/
END:VEVENT
END:VCALENDAR