BEGIN:VCALENDAR
VERSION:2.0
PRODID:-//eventon.com NONSGML v1.0//EN
CALSCALE:GREGORIAN
METHOD:PUBLISH
BEGIN:VEVENT
UID:69e747114471a
DTSTAMP:20260421T094449Z
DTSTART:20241003T034900Z
DTEND:20241003T034900Z
LOCATION:Salim Habib University NC-24\,  Deh Dih\,  Salim Habib Road\,  Karachi\,  74900\,  Pakistan
SUMMARY:CLT - Rabies Virus - Transmission\,  Pathogenicity\,  and Vaccine Development
DESCRIPTION:The Department of Biosciences\,  Faculty of Science\,  Salim Ha
 bib University\,  organized a seminar titled ‘Rabies Virus: Transmission\
 ,  Pathogenicity\,  and Vaccine Development’ on Thursday\,  October 3\,  
 2024\,  in commemoration of World Rabies Day\,  as a part of the Guest Lect
 ure Series held by the University&#8217;s Center for Learning and Teaching 
 (CLT).[..]\nhttps://shu.edu.pk/events/clt-rabies-virus-transmission-pathoge
 nicity-and-vaccine-development/
URL:https://shu.edu.pk/events/clt-rabies-virus-transmission-pathogenicity-and-vaccine-development/
END:VEVENT
END:VCALENDAR