BEGIN:VCALENDAR
VERSION:2.0
PRODID:-//eventon.com NONSGML v1.0//EN
CALSCALE:GREGORIAN
METHOD:PUBLISH
BEGIN:VEVENT
UID:69e4f383eca09
DTSTAMP:20260419T152347Z
DTSTART:20241219T035400Z
DTEND:20241219T035400Z
LOCATION:Salim Habib University NC-24\,  Deh Dih\,  Salim Habib Road\,  Karachi\,  74900\,  Pakistan
SUMMARY:Grad Week - Farewell Dinner
DESCRIPTION:The Farewell Dinner for our Graduating Class was held on Sunday
 \,  December 15\,  2024. The event\,  held at BBQ Tonight\,  Clifton\,  Kar
 achi\,  was memorable and nostalgic both as students turned up dressed to t
 he nines to officially bid goodbye to a major part of their life &#8211; th
 eir years at[..]\nhttps://shu.edu.pk/events/grad-week-farewell-dinner-3/
URL:https://shu.edu.pk/events/grad-week-farewell-dinner-3/
END:VEVENT
END:VCALENDAR