BEGIN:VCALENDAR
VERSION:2.0
PRODID:-//eventon.com NONSGML v1.0//EN
CALSCALE:GREGORIAN
METHOD:PUBLISH
BEGIN:VEVENT
UID:69e7eb69cce8e
DTSTAMP:20260421T212601Z
DTSTART:20250106T035500Z
DTEND:20250106T035500Z
LOCATION:Salim Habib University NC-24\,  Deh Dih\,  Salim Habib Road\,  Karachi\,  74900\,  Pakistan
SUMMARY:CLT - Legal Drafting and Communication in the Business Environment
DESCRIPTION:The Department of Business Administration\,  Salim Habib Univer
 sity\,  organized a Guest Lecture Series Session titled Legal Drafting and 
 Communication in the Business Environment on Sunday\,  January 5\,  2025\, 
  under the University&#8217;s Center for Learning and Teaching (CLT). The s
 ession was conducted by Mr. Shahid Khan Azeemi\,  Managing Partner\,  Green
  Mind[..]\nhttps://shu.edu.pk/events/clt-legal-drafting-and-communication-i
 n-the-business-environment/
URL:https://shu.edu.pk/events/clt-legal-drafting-and-communication-in-the-business-environment/
END:VEVENT
END:VCALENDAR