BEGIN:VCALENDAR
VERSION:2.0
PRODID:-//eventon.com NONSGML v1.0//EN
CALSCALE:GREGORIAN
METHOD:PUBLISH
BEGIN:VEVENT
UID:69e5dee4e0c84
DTSTAMP:20260420T080804Z
DTSTART:20250714T053000Z
DTEND:20250715T100000Z
LOCATION:
SUMMARY:SEE Pakistan 2025 — World Startup Championship
DESCRIPTION:Salim Habib University (SHU) proudly served as Venue Partner fo
 r the SEE Pakistan 2025 — World Startup Championship Karachi Regional Rou
 nd\,  held from July 14 to 15\,  2025\,  at Dr. Iram Auditorium\,  FBS\,  S
 HU. The event brought together startups\,  investors\,  universities\,  and
  key innovation stakeholders to showcase groundbreaking ideas to[..]\nhttps
 ://shu.edu.pk/events/see-pakistan-2025-world-startup-championship/
URL:https://shu.edu.pk/events/see-pakistan-2025-world-startup-championship/
END:VEVENT
END:VCALENDAR