BEGIN:VCALENDAR
VERSION:2.0
PRODID:-//eventon.com NONSGML v1.0//EN
CALSCALE:GREGORIAN
METHOD:PUBLISH
BEGIN:VEVENT
UID:69e89c3f5b1d7
DTSTAMP:20260422T100031Z
DTSTART:20250902T093000Z
DTEND:20250902T113000Z
LOCATION:Fatima Business School\,  Salim Habib University
SUMMARY:Accounting and Finance Curriculum Review Meeting with Industry Experts
DESCRIPTION:On Tuesday\,  September 2\,  2025\,  the second session of the 
 Business Programs Curriculum Review series was held at SHU campus. Leading 
 experts from industry and academia came together to finalize the review of 
 the Accounting and Finance curriculum. The primary objective was to align t
 he courses with evolving industry trends[..]\nhttps://shu.edu.pk/events/acc
 ounting-and-finance-curriculum-review-meeting-with-industry-experts/
URL:https://shu.edu.pk/events/accounting-and-finance-curriculum-review-meeting-with-industry-experts/
END:VEVENT
END:VCALENDAR