BEGIN:VCALENDAR
VERSION:2.0
PRODID:-//eventon.com NONSGML v1.0//EN
CALSCALE:GREGORIAN
METHOD:PUBLISH
BEGIN:VEVENT
UID:69e58ed85589f
DTSTAMP:20260420T022632Z
DTSTART:20251003T050000Z
DTEND:20251002T190000Z
LOCATION:
SUMMARY:SHU Students Participate in ADA Awards Seminar with British Council
DESCRIPTION:On October 3\,  2025\,  BS AI Digital Arts &amp; Creative Desig
 n students attended the ADA Awards 2024-25 Seminar “Art &amp; Design as C
 atalyst\, ” held in collaboration with the British Council\,  Karachi. Th
 e event brought together leading artists\,  designers\,  and academicians a
 nd featured an insightful panel discussion that explored how creativity[..]
 \nhttps://shu.edu.pk/events/shu-students-participate-in-ada-awards-seminar-
 with-british-council/
URL:https://shu.edu.pk/events/shu-students-participate-in-ada-awards-seminar-with-british-council/
END:VEVENT
END:VCALENDAR