BEGIN:VCALENDAR
VERSION:2.0
PRODID:-//eventon.com NONSGML v1.0//EN
CALSCALE:GREGORIAN
METHOD:PUBLISH
BEGIN:VEVENT
UID:69e589f4d5644
DTSTAMP:20260420T020540Z
DTSTART:20251031T110000Z
DTEND:20251031T113000Z
LOCATION:
SUMMARY:SHU Celebrates October Birthdays with Joy and Togetherness
DESCRIPTION:A birthday celebration was held at Salim Habib University on Fr
 iday\,  October 31\,  2025\,  for all members of the staff whose dates of b
 irth fall in October. We wish the happiest of birthdays to all these dear e
 mployees and pray that they live long\,  happy\,  and successful lives. Hap
 py birthday!\nhttps://shu.edu.pk/events/shu-celebrates-october-birthdays-wi
 th-joy-and-togetherness/
URL:https://shu.edu.pk/events/shu-celebrates-october-birthdays-with-joy-and-togetherness/
END:VEVENT
END:VCALENDAR