BEGIN:VCALENDAR
VERSION:2.0
PRODID:-//eventon.com NONSGML v1.0//EN
CALSCALE:GREGORIAN
METHOD:PUBLISH
BEGIN:VEVENT
UID:69e589fba91b1
DTSTAMP:20260420T020547Z
DTSTART:20251106T053000Z
DTEND:20251106T070000Z
LOCATION:
SUMMARY:CLT - Leadership and Team Management
DESCRIPTION:The Department of Business Administration\,  Faculty of Managem
 ent Sciences\,  Salim Habib University\,  organized a Guest Lecture Series 
 Session titled Leadership and Team Management on Thursday\,  November 6\,  
 2025\,  as part of the University’s Center of Learning and Teaching (CLT)
 . The session was conducted by Mr. Zubair Khan\,  Deputy General Manager\, 
 [..]\nhttps://shu.edu.pk/events/clt-leadership-and-team-management/
URL:https://shu.edu.pk/events/clt-leadership-and-team-management/
END:VEVENT
END:VCALENDAR