BEGIN:VCALENDAR
VERSION:2.0
PRODID:-//eventon.com NONSGML v1.0//EN
CALSCALE:GREGORIAN
METHOD:PUBLISH
BEGIN:VEVENT
UID:69e58a50747f6
DTSTAMP:20260420T020712Z
DTSTART:20251103T100000Z
DTEND:20251103T110000Z
LOCATION:
SUMMARY:DSpace Training Session
DESCRIPTION:On Tuesday\,  November 11\,  2025\,  the Tariq Amin Library at 
 Salim Habib University conducted a comprehensive DSpace Training Session\, 
  aimed at empowering faculty and researchers with the necessary skills to e
 ffectively manage digital repositories. Participants remained actively enga
 ged throughout the session\,  fostering a collaborative learning environmen
 t and providing an invaluable[..]\nhttps://shu.edu.pk/events/dspace-trainin
 g-session/
URL:https://shu.edu.pk/events/dspace-training-session/
END:VEVENT
END:VCALENDAR