BEGIN:VCALENDAR
VERSION:2.0
PRODID:-//eventon.com NONSGML v1.0//EN
CALSCALE:GREGORIAN
METHOD:PUBLISH
BEGIN:VEVENT
UID:69e58cb9bce85
DTSTAMP:20260420T021729Z
DTSTART:20251207T033000Z
DTEND:20251207T113000Z
LOCATION:
SUMMARY:SHU Hosts Indus Insight 2025 Symposium in Collaboration with IHHN
DESCRIPTION:The Indus Insight 2025 Symposium\,  a joint initiative of Indus
  Hospital &amp; Health Network and Insight Hospital &amp; Medical Center\, 
  USA\,  to advance neurosurgery\,  oncology\,  genetics\,  nephrology\,  he
 matology\,  and pulmonology\,  was held on Sunday\,  December 7\,  2025\,  
 at Dr. Iram Auditorium\,  Fatima Business School\,  Salim Habib University.
  The landmark event[..]\nhttps://shu.edu.pk/events/shu-hosts-indus-insight-
 2025-symposium-in-collaboration-with-ihhn/
URL:https://shu.edu.pk/events/shu-hosts-indus-insight-2025-symposium-in-collaboration-with-ihhn/
END:VEVENT
END:VCALENDAR