BEGIN:VCALENDAR
VERSION:2.0
PRODID:-//eventon.com NONSGML v1.0//EN
CALSCALE:GREGORIAN
METHOD:PUBLISH
BEGIN:VEVENT
UID:69e58a41b4207
DTSTAMP:20260420T020657Z
DTSTART:20251203T060000Z
DTEND:20251203T070000Z
LOCATION:
SUMMARY:SHU CS Students Visit SUPARCO for Educational Exposure
DESCRIPTION:On Wednesday\,  December 3\,  2025\,  the first-year Computer S
 cience students at Salim Habib University visited Pakistan Space and Upper 
 Atmosphere Research Commission (SUPARCO). The visit provided students with 
 an in-depth understanding of the advancements and research underway in Paki
 stan&#8217;s space science and technology. The students were also introduce
 d to SUPARCO’s[..]\nhttps://shu.edu.pk/events/shu-cs-students-visit-supar
 co-for-educational-exposure/
URL:https://shu.edu.pk/events/shu-cs-students-visit-suparco-for-educational-exposure/
END:VEVENT
END:VCALENDAR