BEGIN:VCALENDAR
VERSION:2.0
PRODID:-//eventon.com NONSGML v1.0//EN
CALSCALE:GREGORIAN
METHOD:PUBLISH
BEGIN:VEVENT
UID:69e58e751fa11
DTSTAMP:20260420T022453Z
DTSTART:20251213T090000Z
DTEND:20251213T100000Z
LOCATION:
SUMMARY:MBA Weekend Program on Investment Avenues for Students and Young Investors
DESCRIPTION:The Department of Business Administration\,  Faculty of Managem
 ent Sciences\,  Salim Habib University\,  organized a Guest Lecture Series 
 Session for its MBA Weekend Program on Investment Avenues for Students and 
 Young Investors on December 13\,  2025\,  as part of the University&#8217;s
  Center of Learning and Teaching (CLT). The session was conducted[..]\nhttp
 s://shu.edu.pk/events/mba-weekend-program-on-investment-avenues-for-student
 s-and-young-investors/
URL:https://shu.edu.pk/events/mba-weekend-program-on-investment-avenues-for-students-and-young-investors/
END:VEVENT
END:VCALENDAR