BEGIN:VCALENDAR
VERSION:2.0
PRODID:-//eventon.com NONSGML v1.0//EN
CALSCALE:GREGORIAN
METHOD:PUBLISH
BEGIN:VEVENT
UID:69e8d352bcf7f
DTSTAMP:20260422T135530Z
DTSTART:20251216T050000Z
DTEND:20251216T070000Z
LOCATION:
SUMMARY:SHU Students Host Mini Exhibition Promoting Interfaith Harmony and Religious Tolerance
DESCRIPTION:On Tuesday\,  December 16\,  2025\,  students from the Faculty 
 of Information Technology and Management Sciences at Salim Habib University
  organized a Mini Exhibition on Islam and World Religions\,  aimed at promo
 ting religious tolerance\,  peace\,  and mutual respect\,  while fostering 
 an understanding of diverse belief systems in today’s globalized world. T
 he[..]\nhttps://shu.edu.pk/events/shu-students-host-mini-exhibition-promoti
 ng-interfaith-harmony-and-religious-tolerance/
URL:https://shu.edu.pk/events/shu-students-host-mini-exhibition-promoting-interfaith-harmony-and-religious-tolerance/
END:VEVENT
END:VCALENDAR