BEGIN:VCALENDAR
VERSION:2.0
PRODID:-//eventon.com NONSGML v1.0//EN
CALSCALE:GREGORIAN
METHOD:PUBLISH
BEGIN:VEVENT
UID:69e58dfeaf78c
DTSTAMP:20260420T022254Z
DTSTART:20251217T060000Z
DTEND:20251217T070000Z
LOCATION:
SUMMARY:CLT- Islamic Banking: Interest-Free Reality or Global Game-Changer
DESCRIPTION:The Department of Business Administration\,  Faculty of Managem
 ent Sciences\,  Salim Habib University\,  organized a Guest Lecture Series 
 Session on Islamic Banking: Interest-Free Reality or Global Game-Changer on
  Wednesday\,  December 17\,  2025\,  as part of the University&#8217;s Cent
 er of Learning and Teaching (CLT). The session was conducted by Mufti Irsha
 d Ahmad\, [..]\nhttps://shu.edu.pk/events/clt-islamic-banking-interest-free
 -reality-or-global-game-changer/
URL:https://shu.edu.pk/events/clt-islamic-banking-interest-free-reality-or-global-game-changer/
END:VEVENT
END:VCALENDAR