BEGIN:VCALENDAR
VERSION:2.0
PRODID:-//eventon.com NONSGML v1.0//EN
CALSCALE:GREGORIAN
METHOD:PUBLISH
BEGIN:VEVENT
UID:69e589f46b254
DTSTAMP:20260420T020540Z
DTSTART:20251217T053000Z
DTEND:20251217T073000Z
LOCATION:
SUMMARY:CLT- The Art & Psychology of Documentary Making
DESCRIPTION:The Center for AI Digital Arts &amp; Creative Design\,  Salim H
 abib University\,  organized a Guest Lecture Series Session on The Art &amp
 ; Psychology of Documentary Making on Wednesday\,  December 17\,  2025. The
  session was conducted by Mr. Syed Tazmeen Javed\,  Program Anchor &amp; Bi
 lingual Content\,  News 99 HD &amp; K21[..]\nhttps://shu.edu.pk/events/clt-
 the-art-psychology-of-documentary-making/
URL:https://shu.edu.pk/events/clt-the-art-psychology-of-documentary-making/
END:VEVENT
END:VCALENDAR