BEGIN:VCALENDAR
VERSION:2.0
PRODID:-//eventon.com NONSGML v1.0//EN
CALSCALE:GREGORIAN
METHOD:PUBLISH
BEGIN:VEVENT
UID:69e8d044baa47
DTSTAMP:20260422T134228Z
DTSTART:20260420T090000Z
DTEND:20260420T100000Z
LOCATION:
SUMMARY:Webinar on Adapting to International Standards: Challenges for Pharmaceutical Chemistry Students
DESCRIPTION:The Faculty of Pharmacy\,  Salim Habib University (SHU)\,  orga
 nized a Webinar on Adapting to International Standards: Challenges for Phar
 maceutical Chemistry Students on Monday\,  April 20\,  2026\,  as part of t
 he University&#8217;s Center of Learning and Teaching (CLT). The webinar wa
 s conducted by Mr. Syed Muhammad Shakib Kazmi\,  PhD Research Scholar[..]\n
 https://shu.edu.pk/events/webinar-on-adapting-to-international-standards-ch
 allenges-for-pharmaceutical-chemistry-students/
URL:https://shu.edu.pk/events/webinar-on-adapting-to-international-standards-challenges-for-pharmaceutical-chemistry-students/
END:VEVENT
END:VCALENDAR