BEGIN:VCALENDAR
VERSION:2.0
PRODID:-//eventon.com NONSGML v1.0//EN
CALSCALE:GREGORIAN
METHOD:PUBLISH
BEGIN:VEVENT
UID:69e8cff7e2504
DTSTAMP:20260422T134111Z
DTSTART:20260415T042400Z
DTEND:20260415T062400Z
LOCATION:
SUMMARY:CLT on Basic Concepts and Practical Insights of Computational Methods in Drug Discovery
DESCRIPTION:The Faculty of Pharmacy\,  Salim Habib University\,  organized 
 a Guest Lecture Series Session on Basic Concepts and Practical Insights of 
 Computational Methods in Drug Discovery on Wednesday\,  April 15\,  2026\, 
  as a part of the University&#8217;s Center of Learning and Teaching (CLT).
  The session was conducted by Ms. Nimra Ameer\, [..]\nhttps://shu.edu.pk/ev
 ents/clt-on-basic-concepts-and-practical-insights-of-computational-methods-
 in-drug-discovery/
URL:https://shu.edu.pk/events/clt-on-basic-concepts-and-practical-insights-of-computational-methods-in-drug-discovery/
END:VEVENT
END:VCALENDAR