BEGIN:VCALENDAR
VERSION:2.0
PRODID:-//eventon.com NONSGML v1.0//EN
CALSCALE:GREGORIAN
METHOD:PUBLISH
BEGIN:VEVENT
UID:69e8d1b03d305
DTSTAMP:20260422T134832Z
DTSTART:20260416T053600Z
DTEND:20260416T110000Z
LOCATION:
SUMMARY:SHU Bazaar: A Celebration of Entrepreneurship\,  Creativity\,  and Community
DESCRIPTION:SHU Bazaar\,  a vibrant one-day event organized by the Student 
 Affairs Department and the Media &amp; Marketing Society at Salim Habib Uni
 versity\,  took place on Thursday\,  April 16\,  2026. From delicious food 
 stalls and unique art and craft finds to exciting product displays\,  and a
  range of engaging activities and[..]\nhttps://shu.edu.pk/events/shu-bazaar
 -a-celebration-of-entrepreneurship-creativity-and-community/
URL:https://shu.edu.pk/events/shu-bazaar-a-celebration-of-entrepreneurship-creativity-and-community/
END:VEVENT
END:VCALENDAR