BEGIN:VCALENDAR
VERSION:2.0
PRODID:-//eventon.com NONSGML v1.0//EN
CALSCALE:GREGORIAN
METHOD:PUBLISH
BEGIN:VEVENT
UID:69e8d04abd9c5
DTSTAMP:20260422T134234Z
DTSTART:20260420T045200Z
DTEND:20260420T060000Z
LOCATION:
SUMMARY:CLT on Clinical and Commercial Practices in Dispensing Pharmacy
DESCRIPTION:The Faculty of Pharmacy\,  Salim Habib University (SHU)\,  orga
 nized a Guest Lecture Series Session on Clinical and Commercial Practices i
 n Dispensing Pharmacy on Monday\,  April 20\,  2026\,  as part of the Unive
 rsity&#8217;s Center of Learning and Teaching (CLT). The session was conduc
 ted by Mr. Safdar Miran\,  Founder\,  Yousafzai Wholesale Pharmacy.\nhttps:
 //shu.edu.pk/events/clt-on-clinical-and-commercial-practices-in-dispensing-
 pharmacy/
URL:https://shu.edu.pk/events/clt-on-clinical-and-commercial-practices-in-dispensing-pharmacy/
END:VEVENT
END:VCALENDAR