BEGIN:VCALENDAR
VERSION:2.0
PRODID:-//eventon.com NONSGML v1.0//EN
CALSCALE:GREGORIAN
METHOD:PUBLISH
BEGIN:VEVENT
UID:69e8d2c799648
DTSTAMP:20260422T135311Z
DTSTART:20260421T052600Z
DTEND:20260421T073000Z
LOCATION:
SUMMARY:CLT on Asset Management
DESCRIPTION:The Department of Computer Science\,  Faculty of Information Te
 chnology\,  Salim Habib University (SHU)\,  organized a Guest Lecture Serie
 s Session on Asset Management on Tuesday\,  April 21\,  2026\,  as part of 
 the University&#8217;s Center of Learning and Teaching (CLT). The session w
 as conducted by Mr. Aaqib Iqbal Satti\,  Area Sales Manager\, [..]\nhttps:/
 /shu.edu.pk/events/clt-on-asset-management/
URL:https://shu.edu.pk/events/clt-on-asset-management/
END:VEVENT
END:VCALENDAR